BEGIN:VCALENDAR
VERSION:2.0
PRODID:-//AudioTheme 2.3.0
BEGIN:VEVENT
UID:urn:uuid:915f82b5-346b-4de8-a582-d45d798171bd
URL:https://www.darylshawn.com/shows/daryl-shawn-private-event-sept-14-2023/
DTSTART;TZID=GMT:20230914T000000
SUMMARY:Daryl Shawn private event, Sept 14 2023
DESCRIPTION:Private solo guitar event
LOCATION:Private event
END:VEVENT
END:VCALENDAR
