BEGIN:VCALENDAR
VERSION:2.0
PRODID:-//AudioTheme 2.3.0
BEGIN:VEVENT
UID:urn:uuid:ed21d64f-0760-4b38-8b5b-f5976df7b068
URL:https://www.darylshawn.com/shows/killifish-private-event-sept-16-2023/
DTSTART;TZID=GMT:20230916T000000
SUMMARY:The Killifish private event, Sept 16 2023
DESCRIPTION:Private event
LOCATION:Private event
END:VEVENT
END:VCALENDAR
